BEGIN:VCALENDAR
VERSION:2.0
PRODID:-//ruth greenwood - ECPv6.15.20//NONSGML v1.0//EN
CALSCALE:GREGORIAN
METHOD:PUBLISH
X-WR-CALNAME:ruth greenwood
X-ORIGINAL-URL:https://ruthgreenwood.art
X-WR-CALDESC:Events for ruth greenwood
REFRESH-INTERVAL;VALUE=DURATION:PT1H
X-Robots-Tag:noindex
X-PUBLISHED-TTL:PT1H
BEGIN:VTIMEZONE
TZID:UTC
BEGIN:STANDARD
TZOFFSETFROM:+0000
TZOFFSETTO:+0000
TZNAME:UTC
DTSTART:20240101T000000
END:STANDARD
END:VTIMEZONE
BEGIN:VEVENT
DTSTART;TZID=UTC:20250918T080000
DTEND;TZID=UTC:20250928T170000
DTSTAMP:20260425T043222
CREATED:20250803T165023Z
LAST-MODIFIED:20250803T165023Z
UID:742-1758182400-1759078800@ruthgreenwood.art
SUMMARY:Small But Mighty Exhibition 2025
DESCRIPTION:Small But Mighty Exhibition 2025\nAn exhibition of selected works will take place at Bankside Gallery from 18-28 September 2025 \n  \nSmall But Mighty showcases all forms of printmaking and highlights the powerful\, ambitious and impressive nature of works created on a small scale. \nThis open submission exhibition\, established by the Royal Society of Painter-Printmakers (RE) aims to create long-term opportunities for artists and promote printmaking to a wider audience.
URL:https://ruthgreenwood.art/event/small-but-mighty-exhibition-2025/
LOCATION:Bankside Gallery\, 48 Hopton St\, London\, London\, SE1 9JB
END:VEVENT
END:VCALENDAR