BEGIN:VCALENDAR
VERSION:2.0
PRODID:-//ruth greenwood - ECPv6.15.20//NONSGML v1.0//EN
CALSCALE:GREGORIAN
METHOD:PUBLISH
X-WR-CALNAME:ruth greenwood
X-ORIGINAL-URL:https://ruthgreenwood.art
X-WR-CALDESC:Events for ruth greenwood
REFRESH-INTERVAL;VALUE=DURATION:PT1H
X-Robots-Tag:noindex
X-PUBLISHED-TTL:PT1H
BEGIN:VTIMEZONE
TZID:UTC
BEGIN:STANDARD
TZOFFSETFROM:+0000
TZOFFSETTO:+0000
TZNAME:UTC
DTSTART:20230101T000000
END:STANDARD
END:VTIMEZONE
BEGIN:VTIMEZONE
TZID:Europe/London
BEGIN:DAYLIGHT
TZOFFSETFROM:+0000
TZOFFSETTO:+0100
TZNAME:BST
DTSTART:20230326T010000
END:DAYLIGHT
BEGIN:STANDARD
TZOFFSETFROM:+0100
TZOFFSETTO:+0000
TZNAME:GMT
DTSTART:20231029T010000
END:STANDARD
BEGIN:DAYLIGHT
TZOFFSETFROM:+0000
TZOFFSETTO:+0100
TZNAME:BST
DTSTART:20240331T010000
END:DAYLIGHT
BEGIN:STANDARD
TZOFFSETFROM:+0100
TZOFFSETTO:+0000
TZNAME:GMT
DTSTART:20241027T010000
END:STANDARD
BEGIN:DAYLIGHT
TZOFFSETFROM:+0000
TZOFFSETTO:+0100
TZNAME:BST
DTSTART:20250330T010000
END:DAYLIGHT
BEGIN:STANDARD
TZOFFSETFROM:+0100
TZOFFSETTO:+0000
TZNAME:GMT
DTSTART:20251026T010000
END:STANDARD
END:VTIMEZONE
BEGIN:VEVENT
DTSTART;TZID=UTC:20250728T100000
DTEND;TZID=UTC:20250828T170000
DTSTAMP:20260425T120702
CREATED:20250803T172106Z
LAST-MODIFIED:20250803T172106Z
UID:754-1753696800-1756400400@ruthgreenwood.art
SUMMARY:Green & Stone Summer Exhibition 2025
DESCRIPTION:The Gallery at Green & Stone\nSUMMER EXHIBITION 2025 – 28 July – 28 August
URL:https://ruthgreenwood.art/event/green-stone-summer-exhibition-2025/
LOCATION:The Gallery @ Green & Stone\, 251 - 253 Fulham Road\, London\, SW3 6HY\, United Kingdom
END:VEVENT
BEGIN:VEVENT
DTSTART;TZID=UTC:20250601T000000
DTEND;TZID=UTC:20250630T000000
DTSTAMP:20260425T120702
CREATED:20250413T150308Z
LAST-MODIFIED:20250508T173925Z
UID:608-1748736000-1751241600@ruthgreenwood.art
SUMMARY:Derby Print Open 2025
DESCRIPTION:I am delighted to announce that I have 2 etching prints on the wall of this years Derby Print open. \nThe Derby Print Open is an exhibition open to all showcasing contemporary printmaking from artists based in the United Kingdom. \n\n\n\n\n\n\nThe Derby Print Open was created in 2018\, by Green Door Printmaking Studio\, with a simple ideology; to promote printmaking and printmakers around the UK. \nOver time\, the DPO has developed\, showcasing artists from all over the UK\, partnering with local businesses to add to the cultural impact of the arts within Derbyshire. \n\nThe exhibition takes place throughout June.
URL:https://ruthgreenwood.art/event/https-www-derbyprintopen-org/
LOCATION:Banks Mill studio\, 71 Bridge Street\, Derby\, Derbyshire\, DE1 3LB
END:VEVENT
BEGIN:VEVENT
DTSTART;TZID=UTC:20250113T100000
DTEND;TZID=UTC:20250215T170000
DTSTAMP:20260425T120702
CREATED:20241224T152808Z
LAST-MODIFIED:20241230T170832Z
UID:511-1736762400-1739638800@ruthgreenwood.art
SUMMARY:The Gallery at Green & Stone\, Works On Paper 2025
DESCRIPTION:The Gallery at Green & Stone\, will be holding their annual winter exhibition of Works On Paper 2025 from 13th January 2025 until the 15th February 2025. \nI am delighted to have had my Aquatint Etching Print; Apple\, Pear\, Apricot\, Plum\, selected to be shown alongside the other artists working in a variety of medium\, all which are using the paper substrate. \n                                                                                                                                                                         					                                  				                                                                                                                                                                                                                                                \nMessage me if you would like to come to the private view. \n  \n  \nInstagram #ruth_greenwood_art \n  \n 
URL:https://ruthgreenwood.art/event/works-on-paper-2025/
LOCATION:The Gallery @ Green & Stone\, 251 - 253 Fulham Road\, London\, SW3 6HY\, United Kingdom
END:VEVENT
BEGIN:VEVENT
DTSTART;TZID=UTC:20241123T110000
DTEND;TZID=UTC:20241123T160000
DTSTAMP:20260425T120702
CREATED:20241024T183404Z
LAST-MODIFIED:20241024T183404Z
UID:450-1732359600-1732377600@ruthgreenwood.art
SUMMARY:SE18 Thames Side Studios Christmas Market 2024
DESCRIPTION:My small scale art prints will be available to buy. \nThis is a lovely opportunity to buy some beautiful and unique presents in the form of Fine Art Prints. \n40 Studio Holders stalls. \nThe Christmas Market is open from 11am until 4pm \nDisabled access. Free\, limited parking is available on site \n 
URL:https://ruthgreenwood.art/event/se18-thames-side-studios-christmas-market-2024/
LOCATION:Thames Side Studios\, Thames Side Studio\, Charlton\, London\, SE18 6HD
END:VEVENT
BEGIN:VEVENT
DTSTART;TZID=UTC:20241121T180000
DTEND;TZID=UTC:20241124T170000
DTSTAMP:20260425T120702
CREATED:20241024T182052Z
LAST-MODIFIED:20241024T182052Z
UID:445-1732212000-1732467600@ruthgreenwood.art
SUMMARY:Woolwich Contemporary Print Fair 2024
DESCRIPTION:An opportunity to buy my larger fine art prints along side other wonderful artwork. \n  \nYou will find my work on Thames-Side Printmakers stand.
URL:https://ruthgreenwood.art/event/woolwich-contemporary-print-fair-2024/
LOCATION:Thames-side Print Studio @ Woolwich Contemproary Print Fair\, The Fireworks Factory\, No 1 Street\, Royal Arsenal\, Woolwich\, SE18 6HD\, United Kingdom
END:VEVENT
BEGIN:VEVENT
DTSTART;TZID=UTC:20241024T110000
DTEND;TZID=UTC:20241102T210000
DTSTAMP:20260425T120702
CREATED:20240611T230205Z
LAST-MODIFIED:20241102T182939Z
UID:311-1729767600-1730581200@ruthgreenwood.art
SUMMARY:SMAG Arts - 2024
DESCRIPTION:SMAG Art raises money through commissions on sale of artwork as well as from Artist entry fees and the occasional donation. Almost all funds raised (barring basic expenses incurred to run the non-profit business) are given to local charities in the Greenwich/Blackheath areas. \nSMAG 14\, May/June 2024 Physical Art Exhibition had representation from a record 101 artists displaying 290 pieces of artwork\, attracted 815 visitors and led to the sale of 78 pieces of artwork valued at over £8\,915\, a new high for a SMAG Exhibition. This allowed us to give an all-time record of £4\,500 to charity. \nThe next physical art exhibition from 24th October – 2nd November 2024 at St. Michael’s and All Angels Church\, 1 Pond Road\, Blackheath\, London SE3 9JL.  \n​My Print Apples\, can be found here on the online shop. \nExhibition Dates (Public Viewing Times) \n​ \nThursday\, 24 Oct. (Opening Evening)       6:30pm – 9:00pm w/ wine & music \nFriday\,  25 Oct.                                                5:00pm – 8:30pm w/ wine & music \nSaturday\, 26 Oct.                                            10:30am – 5:30pm \nSunday\, 27 Oct.                                               Closed/No Viewings \nMonday\, 28 Oct.                                              2:00pm – 6:00pm \nTuesday\, 29 Oct.                                              2:00pm – 6:00pm \nWednesday\, 30 Oct.                                        2:00pm – 6:00pm \nThursday\, 31 Oct.                                            2:00pm – 6:00pm \nFriday\, 1 Nov.                                                  5:00pm – 8:30pm w/ wine & music \nSaturday\, 2 Nov. (Last Viewing Day)          10:30am – 6:00pm  
URL:https://ruthgreenwood.art/event/smag-arts-30th-may-8th-june/
LOCATION:St. Michael’s and All Angels Church\, 1 Pond Road\, Blackheath\, London SE3 9JL.\, St. Michael's and All Angels Church\, 1 Pond Road\, Blackheath\, London\, SE3 9JL\, United Kingdom
END:VEVENT
BEGIN:VEVENT
DTSTART;TZID=UTC:20241001T100000
DTEND;TZID=UTC:20241201T170000
DTSTAMP:20260425T120702
CREATED:20241016T211135Z
LAST-MODIFIED:20241102T182525Z
UID:409-1727776800-1733072400@ruthgreenwood.art
SUMMARY:Southbank Printmakers - Mini Print Exhibition 2024
DESCRIPTION:Southbank Printmakers Mini Print Exhibition 2024\n \nMy monoprint; Blue Oyster\, has been selected and is on display and available to purchase via their website (Link in the heading) \nNow in its 5th year\, this ever-popular independent gallery-led show will again be home to a range of exciting mini prints from across the UK and beyond\, giving both professional and amateur printmakers the chance to exhibit\, sell and become known in the gallery and online shop. Artists who are selected to exhibit also have the chance to win prizes offered by the sponsors Jackson’s Art\, Ironbridge Fine Arts and John Purcell Paper. \nThe exhibition will run at the gallery in Gabriel’s Wharf on the Southbank from Tuesday 1 October to Sunday 1 December 2024.  There will be an opening private view and closing awards night. \nExhibition runs from 1st October through until 1st December 2024 \nOnline Exhibition and shop; 1st October until 5th January 2025. Click here to visit the online shop \n  \n  \n  \nSouthbank printmakers is a small Gallery in London.\nContemporary prints\, including etchings\, screen\, lino and monoprints\, Landscapes\, cityscapes\, abstract and figurative work using a variety of style\, The Southbank Printmakers is a co-operative of forty artists. Selling quality prints directly to visitors at affordable prices. An eclectic collection will appeal to all tastes\, styles and budgets. On the walls you will find a rich and diverse range of approaches to making artworks\, from figurative to abstract\, monochrome to technicolour and large to small; the one thing we all share is a love of creating images by putting ink onto paper. It is an artist-run gallery with a different printmaker in each day. Located by the riverside walk on the Southbank.\nSouthbank Printmakers Gallery. Gabriel’s Wharf\, SE1.
URL:https://ruthgreenwood.art/event/southbank-printmakers-mini-print-exhibition/
END:VEVENT
BEGIN:VEVENT
DTSTART;TZID=UTC:20240910T100000
DTEND;TZID=UTC:20241130T160000
DTSTAMP:20260425T120702
CREATED:20240726T181607Z
LAST-MODIFIED:20241102T181948Z
UID:343-1725962400-1732982400@ruthgreenwood.art
SUMMARY:Ironbridge Fine Arts - Printmaking Competition 2024
DESCRIPTION:2024 Printmaking Competition showcasing the very best in printmaking – The Annual Printmaking Competition illuminates the diverse spectrum of printmaking techniques\, encompassing both traditional and contemporary methods\, and provides a platform to honour and celebrate excellence in printmaking today. \nMy Print Apple\, Pear\, Apricot \, Plum was selected for the 10-week Exhibition\, hosted both physically at the gallery located in the Ironbridge UNESCO World Heritage site as well as included in a virtual exhibition. \n \n  \nThis print can be purchased in person or from the Ironbridge online gallery. Click here to be redirected to the online gallery shop.
URL:https://ruthgreenwood.art/event/ironbridge-fine-arts-printmaking-competition-2024/
LOCATION:Ironbridge Fine Art Gallery and Framers\, Merrythought Village\, Ironbridge\, Shropshire\, TF8 7NJ\, United Kingdom
END:VEVENT
BEGIN:VEVENT
DTSTART;TZID=UTC:20240601T110000
DTEND;TZID=UTC:20240630T170000
DTSTAMP:20260425T120702
CREATED:20240425T225204Z
LAST-MODIFIED:20240611T231915Z
UID:241-1717239600-1719766800@ruthgreenwood.art
SUMMARY:Derby Print Open
DESCRIPTION:The Derby Print Open is an exhibition open to all\,\nshowcasing contemporary printmaking from artists\nbased in the United Kingdom\n \nDerby Print Open – Ruth Greenwood \n 
URL:https://ruthgreenwood.art/event/derby-print-open/
LOCATION:Banks Mill studio\, 71 Bridge Street\, Derby\, Derbyshire\, DE1 3LB
END:VEVENT
BEGIN:VEVENT
DTSTART;TZID=Europe/London:20240115T100000
DTEND;TZID=Europe/London:20240208T170000
DTSTAMP:20260425T120702
CREATED:20240113T130203Z
LAST-MODIFIED:20240113T132302Z
UID:122-1705312800-1707411600@ruthgreenwood.art
SUMMARY:Works on Paper 2024 - The Gallery at Green & Stone\, Chelsea
DESCRIPTION:Works on Paper celebrates emerging artists who have harnessed the versatile medium of paper to craft exceptional and thought-provoking pieces. This exhibition serves as a testament to the enduring power of paper as a canvas for artistic expression. \nAt the end of last year\, I was thrilled to discover that I had had my print Acorns and Oakleaves accepted to hang in a London Gallery. \nI had been trying different papers and found a beautiful textured heavy paper called Somerset and this really brought out the detail of the etching. I etched this image on a piece of very old steel. I used a hardground and had carried it around with me for some time before I realised what I wanted to draw. \nHaving collected some fallen twigs and acorns on a winter walk in a lovely small woodlands in south London\, I brought them home\, laid them out and drew directly into the hardground using an old dipping pen\, inherited from my grandfather\, himself a keen artist. \nThe exhibition opens on Monday 15th January and runs to 8th February 2024 \n\nGreen & Stone take pride in being the first rung on the ladder of success for many artists. The 148 chosen artworks on show are guaranteed to be hugely varied\, unique\, contemporary\, and affordable. \n\nAdmission is free\, and all are welcome. \n  \n 
URL:https://ruthgreenwood.art/event/works-on-paper-2024-the-gallery-at-green-stone-chelsea/
LOCATION:The Gallery @ Green & Stone\, 251 - 253 Fulham Road\, London\, SW3 6HY\, United Kingdom
ATTACH;FMTTYPE=image/jpeg:https://ruthgreenwood.art/wp-content/uploads/2024/01/Acorns-Oakleaves-scaled-e1705148524195.jpg
END:VEVENT
END:VCALENDAR