BEGIN:VCALENDAR
VERSION:2.0
PRODID:-//ruth greenwood - ECPv6.15.20//NONSGML v1.0//EN
CALSCALE:GREGORIAN
METHOD:PUBLISH
X-ORIGINAL-URL:https://ruthgreenwood.art
X-WR-CALDESC:Events for ruth greenwood
REFRESH-INTERVAL;VALUE=DURATION:PT1H
X-Robots-Tag:noindex
X-PUBLISHED-TTL:PT1H
BEGIN:VTIMEZONE
TZID:UTC
BEGIN:STANDARD
TZOFFSETFROM:+0000
TZOFFSETTO:+0000
TZNAME:UTC
DTSTART:20250101T000000
END:STANDARD
END:VTIMEZONE
BEGIN:VEVENT
DTSTART;TZID=UTC:20260302T110000
DTEND;TZID=UTC:20260328T170000
DTSTAMP:20260425T133534
CREATED:20260224T224548Z
LAST-MODIFIED:20260312T191758Z
UID:1085-1772449200-1774717200@ruthgreenwood.art
SUMMARY:South London Women Artists - Sisterhood
DESCRIPTION:SLWA at the Lambeth Archives Sisterhood\, celebrating International women’s day.\n‘Sisterhood’ is a major exhibition which marks the 18th anniversary of South London Women Artists and\ncelebrates International Women’s Day for the entire month of March. It features the rich and diverse work of\n76 local women artists who come together in the spirit of collective endeavour. \nJoin the conversation: Sisterhood – ruth greenwood \nAn exhibition of artwork by SLWA at Lambeth Archives\nsisterhood_SLWA_pressrelease (1) \n 
URL:https://ruthgreenwood.art/event/south-london-women-artists-sisterhood/
LOCATION:Lambeth Archive\, 16 Brixton Hill\, London\, SW2 1ET
END:VEVENT
BEGIN:VEVENT
DTSTART;TZID=UTC:20260310T080000
DTEND;TZID=UTC:20260525T170000
DTSTAMP:20260425T133534
CREATED:20260415T185005Z
LAST-MODIFIED:20260415T185005Z
UID:1133-1773129600-1779728400@ruthgreenwood.art
SUMMARY:Greenwich Printmakers at Rubar Cafe\, Greenwich
DESCRIPTION:Greenwich Printmakers are out and about and have a beautiful exhibition at Rubar Cafe\, Greenwich. \nBy The River is a group exhibition all things food and the Thames. You will find beautiful examples of the artists work and an opportunity to purchase : \nContact | Greenwich Printmakers | London \n 
URL:https://ruthgreenwood.art/event/greenwich-printmakers-at-rubar-cafe-greenwich/
LOCATION:Rubar Cafe Brasserie\, 5 Springham Walk\, London\, SE10 0YP\, Rubar Cafe Brasserie\, London\, SE10 0YP
END:VEVENT
BEGIN:VEVENT
DTSTART;TZID=UTC:20260504T080000
DTEND;TZID=UTC:20260517T170000
DTSTAMP:20260425T133534
CREATED:20260415T185325Z
LAST-MODIFIED:20260419T142747Z
UID:1139-1777881600-1779037200@ruthgreenwood.art
SUMMARY:Artists Open House and SLWA at East Dulwich Picturehouse
DESCRIPTION:Part of the Dulwich Festival and in partnership with Artist Open House\, I will be showing my work in a group exhibition with SLWA at East Dulwich Picturehouse. \n 
URL:https://ruthgreenwood.art/event/artists-open-house-and-slwa-at-east-dulwich-picture-gallery/
LOCATION:East Dulwich Picture House\, East Dulwich\, London
END:VEVENT
BEGIN:VEVENT
DTSTART;TZID=UTC:20260601T000000
DTEND;TZID=UTC:20260630T000000
DTSTAMP:20260425T133534
CREATED:20260412T002557Z
LAST-MODIFIED:20260412T002557Z
UID:1123-1780272000-1782777600@ruthgreenwood.art
SUMMARY:Derby Print Open 2026
DESCRIPTION:I’m delighted to have my 2 of my etchings included in this years Derby Print Open 2026. \nA still life study of a bowl of fruit\n  \nA blue room with bottles\, letters and plate of fruit on a table with a lacey cloth a clock shows 4.30\, am or pm?\nShowing: 1 – 30 June 2026\nLaunch Event: Sat 30 May 2026 (11am – 4pm) \nVisitors will have the opportunity to peruse and purchase prints from a wonderfully diverse selection of traditional and contemporary techniques\, including screen printing\, etching\, linocut\, monoprint\, cyanotype\, risograph and more. These prints will be displayed across two venues as part of a print trail; Banks Mill Studios and The Smallprint Company. \nAwards have been generously donated by businesses within the cultural and creative industries. Participating selected printmakers will be presented with awards\, such as exhibition and residency opportunities\, art materials and creative workshops! \n  \n 
URL:https://ruthgreenwood.art/event/derby-print-open-2026/
LOCATION:Banks Mill studio\, 71 Bridge Street\, Derby\, Derbyshire\, DE1 3LB
END:VEVENT
BEGIN:VEVENT
DTSTART;TZID=UTC:20261201T080000
DTEND;TZID=UTC:20261215T170000
DTSTAMP:20260425T133534
CREATED:20260415T190708Z
LAST-MODIFIED:20260415T191253Z
UID:1145-1796112000-1797354000@ruthgreenwood.art
SUMMARY:Greenwich Printmakers go to The Original Gallery
DESCRIPTION:Greenwich Printmakers are out and about \, this time in North London. A group exhibition of works for sale Prints 4 Presents will be open for 2 weeks. An excellent opportunity to buy original fine art prints for your loved ones. \nThe Original Gallery is part of Grade II listed Hornsey Library\, nestled in Crouch End\, North London. A thriving cultural destination abuzz with shops\, cafes\, restaurants\, independent cinemas and more. \nHornsey Library sits at its heart and provides a still-essential public service on its shelves as well as being a vital community and cultural hub for residents. \nSituated on the first floor of the library and filled with natural light\, for years it has provided artists from all over a perfect blank canvas\, this is sure to be a memorable exhibitions. \nExhibition Opening Hours\nMonday\, Wednesday\, Thursday\, Friday: 1pm – 6pm\nTuesday: 1pm – 7pm\nSaturday: 10am – 5pm\nSunday: 12pm – 4pm \nThe library is closed on bank holiday Mondays and all public holidays.
URL:https://ruthgreenwood.art/event/greenwich-printmakers-go-to-the-original-gallery/
LOCATION:Hornsea Library\, Crouch End\, London
END:VEVENT
END:VCALENDAR